BEGIN:VCALENDAR
VERSION:2.0
PRODID:-//PorterWorks - ECPv6.15.20//NONSGML v1.0//EN
CALSCALE:GREGORIAN
METHOD:PUBLISH
X-ORIGINAL-URL:https://www.porterworks.com
X-WR-CALDESC:Events for PorterWorks
REFRESH-INTERVAL;VALUE=DURATION:PT1H
X-Robots-Tag:noindex
X-PUBLISHED-TTL:PT1H
BEGIN:VTIMEZONE
TZID:America/Los_Angeles
BEGIN:DAYLIGHT
TZOFFSETFROM:-0800
TZOFFSETTO:-0700
TZNAME:PDT
DTSTART:20160313T100000
END:DAYLIGHT
BEGIN:STANDARD
TZOFFSETFROM:-0700
TZOFFSETTO:-0800
TZNAME:PST
DTSTART:20161106T090000
END:STANDARD
BEGIN:DAYLIGHT
TZOFFSETFROM:-0800
TZOFFSETTO:-0700
TZNAME:PDT
DTSTART:20170312T100000
END:DAYLIGHT
BEGIN:STANDARD
TZOFFSETFROM:-0700
TZOFFSETTO:-0800
TZNAME:PST
DTSTART:20171105T090000
END:STANDARD
BEGIN:DAYLIGHT
TZOFFSETFROM:-0800
TZOFFSETTO:-0700
TZNAME:PDT
DTSTART:20180311T100000
END:DAYLIGHT
BEGIN:STANDARD
TZOFFSETFROM:-0700
TZOFFSETTO:-0800
TZNAME:PST
DTSTART:20181104T090000
END:STANDARD
END:VTIMEZONE
BEGIN:VTIMEZONE
TZID:UTC
BEGIN:STANDARD
TZOFFSETFROM:+0000
TZOFFSETTO:+0000
TZNAME:UTC
DTSTART:20120101T000000
END:STANDARD
END:VTIMEZONE
BEGIN:VEVENT
DTSTART;TZID=America/Los_Angeles:20170125T083000
DTEND;TZID=America/Los_Angeles:20170126T163000
DTSTAMP:20260422T134201
CREATED:20161214T001118Z
LAST-MODIFIED:20161214T001352Z
UID:405-1485333000-1485448200@www.porterworks.com
SUMMARY:Instructor Development Workshop
DESCRIPTION:This class will sharpen your presentation skills regardless if you are teaching one person or one hundred. You will be able to recite the “Seven Laws of Learning\,” learn tips on dealing with difficult students\, be able to describe the 4 types of Learners\, sharpen your “opening” and “closing” remarks skills\, create and maintain rapport. You will be able to list and define elements of successful teaching and presenting and also evaluate effective use of technology tools: visuals\, audio\, and computer aids. The course fulfills the requirement for trainer preparation for Washington State DOL.
URL:https://www.porterworks.com/event/instructor-development-workshop/
LOCATION:20700 44th Ave West Suite 500\, Lynnwood\, WA\, 98036\, United States
CATEGORIES:Live Classes
END:VEVENT
BEGIN:VEVENT
DTSTART;TZID=UTC:20130622T080000
DTEND;TZID=UTC:20130623T170000
DTSTAMP:20260422T134201
CREATED:20130605T234057Z
LAST-MODIFIED:20130605T234314Z
UID:82-1371888000-1372006800@www.porterworks.com
SUMMARY:Another Anatomy of a Deep Green Home
DESCRIPTION:Approved for 3 CEU’s for WA state real estate agents and appraisers \nThe field of green construction has continued to grow in spite of the economic downturn.  “Green” building is certainly the wave of the future and will someday become mainstream. This course chronicles the journey from idea to reality of a national award- winning deep green demonstration home. The curriculum provides an snapshot of residential green building concepts including ratings\, design\, energy and water use reduction\, and materials. \n 
URL:https://www.porterworks.com/event/anatomy-of-a-deep-green-home-2/
LOCATION:Online
CATEGORIES:Online Classes
END:VEVENT
BEGIN:VEVENT
DTSTART;TZID=UTC:20130615T080000
DTEND;TZID=UTC:20130616T170000
DTSTAMP:20260422T134201
CREATED:20130605T170533Z
LAST-MODIFIED:20130605T184315Z
UID:39-1371283200-1371402000@www.porterworks.com
SUMMARY:Anatomy of a Deep Green Home
DESCRIPTION:Approved for 3 CEU’s for WA state real estate agents and appraisers \nThe field of green construction has continued to grow in spite of the economic downturn.  “Green” building is certainly the wave of the future and will someday become mainstream. This course chronicles the journey from idea to reality of a national award- winning deep green demonstration home. The curriculum provides an snapshot of residential green building concepts including ratings\, design\, energy and water use reduction\, and materials.
URL:https://www.porterworks.com/event/anatomy-of-a-deep-green-home/
LOCATION:PorterWorks\, 19126 Soundview Dr. NW\, Stanwood\, 98292\, United States
CATEGORIES:Live Classes
END:VEVENT
END:VCALENDAR