BEGIN:VCALENDAR
VERSION:2.0
PRODID:-//wp-events-plugin.com//7.2.3.1//EN
BEGIN:VEVENT
UID:1@porterworks.com
DTSTART:20170125T083000Z
DTEND:20170126T163000Z
DTSTAMP:20161214T013524Z
URL:https://www.porterworks.com/education/our-courses/live-classes/instruc
 tor-development-workshop/
SUMMARY:Instructor Development Workshop
DESCRIPTION:This class will sharpen your presentation skills regardless if 
 you are teaching one person or one hundred. You will be able to recite the
  “Seven Laws of Learning\,” learn tips on dealing with difficult stude
 nts\, be able to describe the 4 types of Learners\, sharpen your “openin
 g” and “closing” remarks skills\, create and maintain rapport. You w
 ill be able to list and define elements of successful teaching and present
 ing and also evaluate effective use of technology tools: visuals\, audio\,
  and computer aids. The course fulfills the requirement for trainer prepar
 ation for Washington State DOL.
LOCATION:Homestreet\, 20700 44th Ave West Suite 500\, Lynnwood\, WA\, 98036
 \, United States
GEO:47.8109747;-122.29585299999997
X-APPLE-STRUCTURED-LOCATION;VALUE=URI;X-ADDRESS=20700 44th Ave West Suite 5
 00\, Lynnwood\, WA\, 98036\, United States;X-APPLE-RADIUS=100;X-TITLE=Home
 street:geo:47.8109747,-122.29585299999997
END:VEVENT
BEGIN:VEVENT
UID:2@porterworks.com
DTSTART:20170420T083000Z
DTEND:20170421T163000Z
DTSTAMP:20170224T010754Z
URL:https://www.porterworks.com/education/our-courses/live-classes/instruc
 tor-development-workshop-training-trainers-facilitating-facilitators-coach
 ing-coaches/
SUMMARY:Instructor Development Workshop: Training Trainers\, Facilitating F
 acilitators & Coaching Coaches
DESCRIPTION:Your best chance at creating and giving a flawless presentation
  is to be fully prepared: know your audience\, how people learn\, and what
  components are essential in educating adults.  This class will sharpen y
 our presentation and/or training skills regardless if your audience is one
  person or one hundred.  You’ll learn the elements of successful teachi
 ng and presenting (including organizing and creating content) and also how
  to evaluate and effectively use technology tools: visuals\, audio\, and c
 omputer aides.\n\nThis course also fulfills the WA State Department of Lic
 ensing-Real Estate requirement to become a certified instructor for real e
 state agents.\n\nThis is a two-day\, 15-clock hour class\, 8:30-4:30 each 
 day. Students should plan to have homework the first night.\n\nRegister th
 rough Eventbrite here: https://porterworksidw.eventbrite.com.
LOCATION:Windermere Training Center\, 17711 Ballinger Way NE\, Seattle\, WA
  \, 98155\, United States
GEO:47.7562615;-122.2806258
X-APPLE-STRUCTURED-LOCATION;VALUE=URI;X-ADDRESS=17711 Ballinger Way NE\, Se
 attle\, WA \, 98155\, United States;X-APPLE-RADIUS=100;X-TITLE=Windermere 
 Training Center:geo:47.7562615,-122.2806258
END:VEVENT
BEGIN:VEVENT
UID:3@porterworks.com
DTSTART:20180201T090000Z
DTEND:20180201T120000Z
DTSTAMP:20180110T170944Z
URL:https://www.porterworks.com/education/our-courses/live-classes/bluepri
 nt-for-a-smooth-transaction/
SUMMARY:Blueprint for a Smooth Transaction
DESCRIPTION:Not all real estate transactions go smoothly\; some\, in fact\,
  are un-manageable and eventually fail. There are many moving parts in the
  real estate transaction involving many different people. It gets more com
 plicated when you bring financing into the mix. This workshop identifies c
 ommon transaction problems and offers strategies to reduce or eliminate th
 ese obstacles with the goal of creating a smooth transaction.\n\nRegister 
 through Eventbrite at this link: 
ATTACH;FMTTYPE=image/jpeg:https://www.porterworks.com/wp-content/uploads/2
 018/01/Blueprint.jpg
CATEGORIES:Real Estate Continuing Education
LOCATION:Windermere Training Center\, 17711 Ballinger Way NE\, Seattle\, WA
  \, 98155\, United States
GEO:47.7562615;-122.2806258
X-APPLE-STRUCTURED-LOCATION;VALUE=URI;X-ADDRESS=17711 Ballinger Way NE\, Se
 attle\, WA \, 98155\, United States;X-APPLE-RADIUS=100;X-TITLE=Windermere 
 Training Center:geo:47.7562615,-122.2806258
END:VEVENT
BEGIN:VEVENT
UID:6@porterworks.com
DTSTART:20180315T083000Z
DTEND:20180315T163000Z
DTSTAMP:20180117T232106Z
URL:https://www.porterworks.com/education/our-courses/live-classes/nar-gre
 en-day-1-the-resource-efficient-home/
SUMMARY:NAR Green Day 1 – The Resource-Efficient Home
DESCRIPTION:The Resource-Efficient Home: Remodels\, Retrofits\, Renovations
 \, and New-Home Construction\n\nThe course prepares real estate profession
 als to provide advice and sources of information to help homeowners improv
 e the resource efficiency of their homes from low-cost fixes and DIY proje
 cts to retrofitting and replacing systems to big -budget remodeling projec
 ts. The course also looks at constructing a new\, resource-efficient home 
 and the value that real estate professionals can bring to the design and b
 uild team.\n\nStudents will learn about:\n\n 	The Resource‐Efficient Hom
 e\n 	DIY Projects for Improving Resource Efficiency\n 	Smart Home Technolo
 gies\n 	Retrofitting and Replacing Systems\n 	Remodeling: Big Budget Proje
 cts and the Bottom Line\n\nDay 1 of NAR GREEN Designation requirement\n\nR
 egister through SKCR at: 
ATTACH;FMTTYPE=image/jpeg:https://www.porterworks.com/wp-content/uploads/2
 018/01/Picture1.jpg
CATEGORIES:Real Estate Continuing Education
LOCATION:Seattle King County Realtors\, 12410 SE 32nd St\, Suite 100\, Bell
 evue\, WA\, 98005\, United States
GEO:47.5823523;-122.17393429999998
X-APPLE-STRUCTURED-LOCATION;VALUE=URI;X-ADDRESS=12410 SE 32nd St\, Suite 10
 0\, Bellevue\, WA\, 98005\, United States;X-APPLE-RADIUS=100;X-TITLE=Seatt
 le King County Realtors:geo:47.5823523,-122.17393429999998
END:VEVENT
BEGIN:VEVENT
UID:7@porterworks.com
DTSTART:20180316T083000Z
DTEND:20180316T163000Z
DTSTAMP:20180117T232404Z
URL:https://www.porterworks.com/education/our-courses/live-classes/nar-gre
 en-day-2-representing-buyers-and-sellers-of-resource-efficient-homes/
SUMMARY:NAR Green Day 2 – Representing Buyers and Sellers of Resource-Eff
 icient Homes
DESCRIPTION:Representing Buyers and Sellers of Resource-Efficient Homes\n\n
 The second course in the designation program sequence\, focuses on applyin
 g the knowledge of resource-efficient\, smart\, and certified homes gained
  in the preceding course and adapting core real estate skills to build bus
 iness success in the niche market for resource-efficient homes.\n\nStudent
 s will learn about:\n\n· Consumer Motivations and Priorities\n· The New 
 Market Drivers &amp\; Home Valuation\n· Listing and Marketing the Resourc
 e-Efficient Home\n· Finding and Buying the Resource-Efficient Home\n· Br
 anching Out as a Green Real Estate Professional\n\nDay 2 of required educa
 tion for the NAR GREEN Designation.\n\nRegister through SKCR at: 
ATTACH;FMTTYPE=image/jpeg:https://www.porterworks.com/wp-content/uploads/2
 018/01/Picture1.jpg
CATEGORIES:Real Estate Continuing Education
LOCATION:Seattle King County Realtors\, 12410 SE 32nd St\, Suite 100\, Bell
 evue\, WA\, 98005\, United States
GEO:47.5823523;-122.17393429999998
X-APPLE-STRUCTURED-LOCATION;VALUE=URI;X-ADDRESS=12410 SE 32nd St\, Suite 10
 0\, Bellevue\, WA\, 98005\, United States;X-APPLE-RADIUS=100;X-TITLE=Seatt
 le King County Realtors:geo:47.5823523,-122.17393429999998
END:VEVENT
BEGIN:VEVENT
UID:9@porterworks.com
DTSTART:20180320T080000Z
DTEND:20180322T170000Z
DTSTAMP:20180212T201037Z
URL:https://www.porterworks.com/education/our-courses/live-classes/certifi
 ed-new-home-sale-professional/
SUMMARY:Certified New Home Sale Professional
DESCRIPTION:24 Real Estate Clock Hours WA DOL~ BIAW\n18 CE\, National Assoc
 iation of Home Builders (NAHB) ~ NAHB\n18 CE\, American Institute of Build
 ing Design (AIBD) ~ NAHB\n\nJOIN THE RANKS OF THE NATIONAL ELITE REALTORS\
 , by obtaining the Certified New Home Sales Professional (CSP) Designation
 !\n\nMaster the craft of successful selling. This professional-level cours
 e is designed for specialists in new home sales. You will gain a broad und
 erstanding of the home building business\, discuss consumer psychology and
  learn the advanced techniques used by real estate veterans for greeting\,
  closing and overcoming objections. As a graduate of this course\, you wil
 l be able to define and describe the * Qualifications and characteristics 
 of a new home salesperson * Differences between selling new homes and resa
 le homes * Role of the Critical Path to Successful Selling in the new home
  sales environment * Basic steps of the builder’s decision making and de
 velopment process * Basic construction features that benefit the home buye
 r * Builder’s marketing approach and the impact the new home salesperson
  has in the marketing process * Impact of consumer behavior on the new hom
 e selling process * Basic elements of effective communications in the sell
 ing environment * Importance of prospecting in searching for and qualifyin
 g potential buyers * Legal aspects of the real estate business and fair ho
 using guidelines You will also gain the following skills: Greeting and qua
 lifying a prospective buyer * Using the area and community as selling poin
 t * Successfully demonstrating the product\, Handling objections * Reducin
 g the process to writing * Successful closing * Basic new home financing *
  Using follow-up systems to increase sales * Final walk-through and call-b
 ack procedures.\n\nNEW GRADUATION PROCESS FOR CSP\, as of March 1\, 2014\,
  once you complete the CSP course you will receive a certificate of comple
 tion from NAHB. This certificate is just proof of your successful completi
 on of the course. However\, to earn the CSP designation\, you must go to: 
 www.nahb.org/apply4CSP. The NAHB graduation fee for NAHB members is $20 an
 d for non-members it is $40 (graduation fee is not included in the price o
 f the class). Once you complete this process\, you will be able to downloa
 d your designation certificate which formally states that you are a CSP.\n
 \nInstructors: Dave Porter\, Michael Orbino\n\nTo register click here.
LOCATION:Master Builders of King & Snohomish Counties\, 335 116th Ave SE\, 
 Bellevue\, WA\, United States
GEO:47.6066027;-122.18600530000003
X-APPLE-STRUCTURED-LOCATION;VALUE=URI;X-ADDRESS=335 116th Ave SE\, Bellevue
 \, WA\, United States;X-APPLE-RADIUS=100;X-TITLE=Master Builders of King &
  Snohomish Counties:geo:47.6066027,-122.18600530000003
END:VEVENT
BEGIN:VEVENT
UID:8@porterworks.com
DTSTART:20180404T083000Z
DTEND:20180405T163000Z
DTSTAMP:20180213T224850Z
URL:https://www.porterworks.com/education/our-courses/live-classes/instruc
 tor-development-workshop-2/
SUMMARY:Instructor Development Workshop
DESCRIPTION:Your best chance at creating and giving a flawless presentation
  is to be fully prepared: know your audience\, how people learn\, and what
  components are essential in educating adults.  This class will sharpen y
 our presentation and/or training skills regardless if your audience is one
  person or one hundred.  You’ll learn the elements of successful teachi
 ng and presenting (including organizing and creating content) and also how
  to evaluate and effectively use technology tools: visuals\, audio\, and c
 omputer aides.\n\nThis course also fulfills the WA State Department of Lic
 ensing-Real Estate requirement to become a certified instructor for real e
 state agents.\n\nApproved for 15 CEUs for WA State agents.\n\nRegister at 
 Eventbrite: 
LOCATION:Windermere Training Center\, 17711 Ballinger Way NE\, Seattle\, WA
  \, 98155\, United States
GEO:47.7562615;-122.2806258
X-APPLE-STRUCTURED-LOCATION;VALUE=URI;X-ADDRESS=17711 Ballinger Way NE\, Se
 attle\, WA \, 98155\, United States;X-APPLE-RADIUS=100;X-TITLE=Windermere 
 Training Center:geo:47.7562615,-122.2806258
END:VEVENT
BEGIN:VEVENT
UID:10@porterworks.com
DTSTART:20180419T090000Z
DTEND:20180419T120000Z
DTSTAMP:20180306T192125Z
URL:https://www.porterworks.com/education/our-courses/live-classes/bluepri
 nt-for-a-smooth-transaction-2/
SUMMARY:Blueprint for a Smooth Transaction
DESCRIPTION:Not all real estate transactions go smoothly\; some\, in fact\,
  are un-manageable and eventually fail. There are many moving parts in the
  real estate transaction involving many different people. It gets more com
 plicated when you bring financing into the mix. This workshop identifies c
 ommon transaction problems and offers strategies to reduce or eliminate th
 ese obstacles with the goal of creating a smooth transaction.\n\nApproved 
 for 3 CEUs for WA State Real Estate Agents.\n\nCost: $10/person\n\nSpace i
 s limited. Register at Eventbrite here: \n\n&nbsp\;
LOCATION:Private Residence\, 123 North 35th Street\, Seattle\, WA\, 98103\,
  United States
GEO:47.6516337;-122.35664789999998
X-APPLE-STRUCTURED-LOCATION;VALUE=URI;X-ADDRESS=123 North 35th Street\, Sea
 ttle\, WA\, 98103\, United States;X-APPLE-RADIUS=100;X-TITLE=Private Resid
 ence:geo:47.6516337,-122.35664789999998
END:VEVENT
BEGIN:VEVENT
UID:12@porterworks.com
DTSTART:20180430T083000Z
DTEND:20180501T163000Z
DTSTAMP:20180420T194610Z
URL:https://www.porterworks.com/education/our-courses/live-classes/bluepri
 nt-for-successfully-selling-new-homes-2/
SUMMARY:Blueprint for Successfully Selling New Homes
DESCRIPTION:This class is a must for agents focused on new home sales. Many
  of the principles apply to resale however the course is targeted to the n
 ew home sales agent. We start with assessing what knowledge is needed abou
 t you\, traits of successful sales agent and the sales process. We learn h
 ow to study and create area &amp\; builder overview\, as well and construc
 tion elements and design trends. We will discuss and practice negotiation 
 &amp\; closing techniques. You’ll learn key must-know information on fin
 ancing and valuation\, marketing\, and outreach strategies. We will review
  and practice closing\, orientation\, and customer service approaches. And
  we’ll visit a new home model and define how to tour a new home.\n\nAppr
 oved in OR for 12 CEUs.\n\nRegister through Rogue Valley Association of Re
 altors\n\n&nbsp\;
LOCATION:Rogue Valley Association of Realtors\, 629 Franquette St\, Medford
 \, OR\, 97501\, United States
GEO:42.3214966;-122.86458019999998
X-APPLE-STRUCTURED-LOCATION;VALUE=URI;X-ADDRESS=629 Franquette St\, Medford
 \, OR\, 97501\, United States;X-APPLE-RADIUS=100;X-TITLE=Rogue Valley Asso
 ciation of Realtors:geo:42.3214966,-122.86458019999998
END:VEVENT
BEGIN:VEVENT
UID:11@porterworks.com
DTSTART:20180517T083000Z
DTEND:20180518T170000Z
DTSTAMP:20180405T012328Z
URL:https://www.porterworks.com/education/our-courses/live-classes/bluepri
 nt-for-successfully-selling-new-homes/
SUMMARY:Blueprint for Successfully Selling New Homes
DESCRIPTION:A must for agents focused on new home sales. Learn to study &am
 p\; create area and builder overview\, construction elements\, design tren
 ds\, negotiation &amp\; closing techniques\, and customer service approach
 es. Approved in Idaho and Washington for 12 CEUs for real estate agents.\n
 \nDay 1 - 8:30 am - 5:00pm\n\nDay 2 - 8:30am - 1:00pm\n\nRegister here: ww
 w.eventbrite.com/e/blueprint-for-successfully-selling-new-homes-tickets-44
 769912012
LOCATION:Coeur d'Alene Association of REALTORS®\, 409 W Neider Ave Ste A\,
  Coeur d'Alene\, ID\, 83815\, United States
GEO:47.7076217;-116.79379369999998
X-APPLE-STRUCTURED-LOCATION;VALUE=URI;X-ADDRESS=409 W Neider Ave Ste A\, Co
 eur d'Alene\, ID\, 83815\, United States;X-APPLE-RADIUS=100;X-TITLE=Coeur 
 d'Alene Association of REALTORS®:geo:47.7076217,-116.79379369999998
END:VEVENT
BEGIN:VEVENT
UID:13@porterworks.com
DTSTART;TZID=America/Los_Angeles:20180629T090000
DTEND;TZID=America/Los_Angeles:20180629T120000
DTSTAMP:20180606T201428Z
URL:https://www.porterworks.com/education/our-courses/live-classes/the-fut
 ure-of-housing/
SUMMARY:The Future of Housing
DESCRIPTION:In this class we will take a look at how our housing choices ha
 ve been made thus far and discuss why we cannot continue to do things as w
 e have before.  We’ll look at the ramifications of our housing choices 
 and look at new innovations in housing that are sustainable.  Alternative
  housing design and construction methods will be explored. The future of 
 housing needs to be is about the future of our planet. The world’s popul
 ation is 7.2 B and is projected to increase to 8.5 B by 2030. According to
  the World Health Organization (WHO) 70% of people will be living in citie
 s by 2050. The future of housing needs to be also about the future of our 
 cities so reinventing our cities is of critical importance.  The future c
 an be great if we make wise choices.\n\n3 Washington State-approved Clock 
 Hours for Real Estate Continuing Education\n\nLocation: 1027 State Ave. #1
 02\, Marysville\, WA\n\nReservations required. Register .
ATTACH;FMTTYPE=image/jpeg:https://www.porterworks.com/wp-content/uploads/2
 018/06/Future-of-Housing.jpg
CATEGORIES:Real Estate Continuing Education
END:VEVENT
BEGIN:VEVENT
UID:17@porterworks.com
DTSTART;TZID=America/Los_Angeles:20180926T090000
DTEND;TZID=America/Los_Angeles:20180926T170000
DTSTAMP:20180913T231139Z
URL:https://www.porterworks.com/education/our-courses/live-classes/2018-bi
 aw-area-15-leadership-conference/
SUMMARY:2018 BIAW Area 15 Leadership Conference
DESCRIPTION:PorterWorks is teaching for the pre-conference Effective Commun
 ication Training Series. We'll be debuting our two new 7-hour courses\, ap
 proved by NAHB for continuing education: Mastering Media Messaging and Per
 fecting Presentation Performance.\n\nTo get more information and to regist
 er visit: http://ow.ly/LDYs50ipNmfi
LOCATION:Doubletree Suites\, 16500 Southcenter Parkway\, Tukwila\, WA\, 981
 88\, United States
X-APPLE-STRUCTURED-LOCATION;VALUE=URI;X-ADDRESS=16500 Southcenter Parkway\,
  Tukwila\, WA\, 98188\, United States;X-APPLE-RADIUS=100;X-TITLE=Doubletre
 e Suites:geo:0,0
END:VEVENT
BEGIN:VEVENT
UID:14@porterworks.com
DTSTART;TZID=America/Los_Angeles:20180927T083000
DTEND;TZID=America/Los_Angeles:20180928T163000
DTSTAMP:20180913T192912Z
URL:https://www.porterworks.com/education/our-courses/live-classes/instruc
 tor-development-workshop-training-trainers/
SUMMARY:Instructor Development Workshop: Training Trainers
DESCRIPTION:Your best chance at creating and giving a flawless presentation
  is to be fully prepared: know your audience\, how people learn\, and what
  components are essential in educating adults.  This class will sharpen y
 our presentation and/or training skills regardless if your audience is one
  person or one hundred.  You’ll learn the elements of successful teachi
 ng and presenting (including organizing and creating content) and also how
  to evaluate and effectively use technology tools: visuals\, audio\, and c
 omputer aides.\n\nThis course also fulfills the WA State Department of Lic
 ensing-Real Estate requirement to become a certified instructor for real e
 state agents.\n\nThis is a two-day workshop\, 8:30-4:30 each day.\n\nCost:
  $299.00 per person. Register here: 
ATTACH;FMTTYPE=image/jpeg:https://www.porterworks.com/wp-content/uploads/2
 018/08/Adpic.jpg
CATEGORIES:Real Estate Continuing Education
LOCATION:Windermere Training Center\, 17711 Ballinger Way NE\, Seattle\, WA
  \, 98155\, United States
GEO:47.7562615;-122.2806258
X-APPLE-STRUCTURED-LOCATION;VALUE=URI;X-ADDRESS=17711 Ballinger Way NE\, Se
 attle\, WA \, 98155\, United States;X-APPLE-RADIUS=100;X-TITLE=Windermere 
 Training Center:geo:47.7562615,-122.2806258
END:VEVENT
BEGIN:VEVENT
UID:16@porterworks.com
DTSTART;TZID=America/Los_Angeles:20181102T100000
DTEND;TZID=America/Los_Angeles:20181102T130000
DTSTAMP:20180906T220536Z
URL:https://www.porterworks.com/education/our-courses/live-classes/mortgag
 e-matters/
SUMMARY:Mortgage Matters
DESCRIPTION:Changes in the mortgage business move faster than a speeding bu
 llet train!   Keeping current with the mortgage industry is critical. Th
 ere are changes weekly in the mortgage business and not just with interest
  rates. Understanding these changes will help you put--and keep--transacti
 ons together.  Knowing about ways to structure transactions with differen
 t mortgages matters!\n\n3 WA State-approved clock hours for real estate ag
 ents.\n\nRegister through Seattle King County Realtors®: http://www.nwre
 altor.com/education/
ATTACH;FMTTYPE=image/jpeg:https://www.porterworks.com/wp-content/uploads/2
 018/09/MM.jpg
CATEGORIES:Real Estate Continuing Education
LOCATION:Seattle King County Realtors\, 12410 SE 32nd St\, Suite 100\, Bell
 evue\, WA\, 98005\, United States
GEO:47.5823523;-122.17393429999998
X-APPLE-STRUCTURED-LOCATION;VALUE=URI;X-ADDRESS=12410 SE 32nd St\, Suite 10
 0\, Bellevue\, WA\, 98005\, United States;X-APPLE-RADIUS=100;X-TITLE=Seatt
 le King County Realtors:geo:47.5823523,-122.17393429999998
END:VEVENT
BEGIN:VEVENT
UID:19@porterworks.com
DTSTART;TZID=America/Los_Angeles:20190318T130000
DTEND;TZID=America/Los_Angeles:20190318T160000
DTSTAMP:20190315T163746Z
URL:https://www.porterworks.com/education/our-courses/live-classes/anatomy
 -of-a-deep-green-home/
SUMMARY:Anatomy of a Deep Green Home
DESCRIPTION:\n\n3 WA-state approved CEUs for Real Estate Agents\n\nWhat is 
 a green home? The concept of "green" building continues to take root in th
 e industry—and it may yet become mainstream—but what is it? Is it all 
 about energy efficiency and bamboo floors or is there more to it? Come fin
 d out what truly makes a home green. The course chronicles the journey fro
 m idea to reality of a national award- winning deep-green demonstration ho
 me. The curriculum provides a snapshot of residential green building conce
 pts that include rating systems\, design\, materials\, and energy\, water\
 , and resource efficiency.\n\nLight snacks will be served.\n\nThe class is
  free but registration is required. Register at Eventbrite: https://www.e
 ventbrite.com/e/anatomy-of-a-deep-green-home-tickets-57445509064\n\nAbout 
 the Instructor: Dave Porter is Sales Manager at loanDepot\, serving Washin
 gton and Oregon. He has been in the real estate and mortgage banking indus
 tries for more than 35 years. He is a recognized national speaker\, traine
 r and writer. He has presented for the National Association of Realtors\, 
 Mortgage Bankers Association\, National Association of Home Builders and t
 he American Credit Union Mortgage Association.
CATEGORIES:Real Estate Continuing Education
LOCATION:Private Residence\, 4511 Thackeray Place NE\, Seattle\, Washington
 \, 98105\, United States
X-APPLE-STRUCTURED-LOCATION;VALUE=URI;X-ADDRESS=4511 Thackeray Place NE\, S
 eattle\, Washington\, 98105\, United States;X-APPLE-RADIUS=100;X-TITLE=Pri
 vate Residence:geo:0,0
END:VEVENT
BEGIN:VEVENT
UID:20@porterworks.com
DTSTART;TZID=America/Los_Angeles:20190523T110000
DTEND;TZID=America/Los_Angeles:20190523T143000
DTSTAMP:20190506T225602Z
URL:https://www.porterworks.com/education/our-courses/live-classes/anatomy
 -of-a-deep-green-home-2/
SUMMARY:Anatomy of a Deep Green Home
DESCRIPTION:What is a green home? The concept of "green" building continues
  to take root in the industry—and it may yet become mainstream—but wha
 t is it? Is it all about energy efficiency and bamboo floors or is there m
 ore to it? Come find out what truly makes a home green. The course chronic
 les the journey from idea to reality of a national award- winning deep-gre
 en demonstration home. The curriculum provides a snapshot of residential g
 reen building concepts that include rating systems\, design\, materials\, 
 and energy\, water\, and resource efficiency.\n\nThe class is free but pre
 -registration is required.  Complimentary lunch provided by NWG/Compass R
 eal Estate.\n\nRegister through Eventbrite at: .\n\nAbout the Instructor: 
 Dave Porter is Sales Manager at loanDepot\, serving Washington and Oregon.
  He has been in the real estate and mortgage banking industries for more t
 han 35 years. He is a recognized national speaker\, trainer and writer. He
  has presented for the National Association of Realtors\, Mortgage Bankers
  Association\, National Association of Home Builders and the American Cred
 it Union Mortgage Association.
ATTACH;FMTTYPE=image/jpeg:https://www.porterworks.com/wp-content/uploads/2
 019/05/flyerpic.jpg
CATEGORIES:Real Estate Continuing Education
LOCATION:Rainier View Homes\, 12672 60th Avenue S\, Seattle\, WA\, 98178\, 
 United States
X-APPLE-STRUCTURED-LOCATION;VALUE=URI;X-ADDRESS=12672 60th Avenue S\, Seatt
 le\, WA\, 98178\, United States;X-APPLE-RADIUS=100;X-TITLE=Rainier View Ho
 mes:geo:0,0
END:VEVENT
BEGIN:VTIMEZONE
TZID:America/Los_Angeles
X-LIC-LOCATION:America/Los_Angeles
BEGIN:DAYLIGHT
DTSTART:20180311T030000
TZOFFSETFROM:-0800
TZOFFSETTO:-0700
TZNAME:PDT
END:DAYLIGHT
BEGIN:STANDARD
DTSTART:20181104T010000
TZOFFSETFROM:-0700
TZOFFSETTO:-0800
TZNAME:PST
END:STANDARD
BEGIN:DAYLIGHT
DTSTART:20190310T030000
TZOFFSETFROM:-0800
TZOFFSETTO:-0700
TZNAME:PDT
END:DAYLIGHT
END:VTIMEZONE
END:VCALENDAR